BEGIN:VCALENDAR
VERSION:2.0
PRODID:-//Downtown Metuchen - ECPv6.15.20//NONSGML v1.0//EN
CALSCALE:GREGORIAN
METHOD:PUBLISH
X-WR-CALNAME:Downtown Metuchen
X-ORIGINAL-URL:https://www.downtownmetuchen.org
X-WR-CALDESC:Events for Downtown Metuchen
REFRESH-INTERVAL;VALUE=DURATION:PT1H
X-Robots-Tag:noindex
X-PUBLISHED-TTL:PT1H
BEGIN:VTIMEZONE
TZID:America/New_York
BEGIN:DAYLIGHT
TZOFFSETFROM:-0500
TZOFFSETTO:-0400
TZNAME:EDT
DTSTART:20250309T070000
END:DAYLIGHT
BEGIN:STANDARD
TZOFFSETFROM:-0400
TZOFFSETTO:-0500
TZNAME:EST
DTSTART:20251102T060000
END:STANDARD
BEGIN:DAYLIGHT
TZOFFSETFROM:-0500
TZOFFSETTO:-0400
TZNAME:EDT
DTSTART:20260308T070000
END:DAYLIGHT
BEGIN:STANDARD
TZOFFSETFROM:-0400
TZOFFSETTO:-0500
TZNAME:EST
DTSTART:20261101T060000
END:STANDARD
BEGIN:DAYLIGHT
TZOFFSETFROM:-0500
TZOFFSETTO:-0400
TZNAME:EDT
DTSTART:20270314T070000
END:DAYLIGHT
BEGIN:STANDARD
TZOFFSETFROM:-0400
TZOFFSETTO:-0500
TZNAME:EST
DTSTART:20271107T060000
END:STANDARD
END:VTIMEZONE
BEGIN:VEVENT
DTSTART;TZID=America/New_York:20260202T190000
DTEND;TZID=America/New_York:20260202T200000
DTSTAMP:20260419T150548
CREATED:20260112T001044Z
LAST-MODIFIED:20260112T144449Z
UID:10000282-1770058800-1770062400@www.downtownmetuchen.org
SUMMARY:Annual Meeting
DESCRIPTION:
URL:https://www.downtownmetuchen.org/event/annual-meeting/
LOCATION:Suite Metuchen\, 406 Main St\, Metuchen\, NJ\, 08840\, United States
ORGANIZER;CN="Metuchen Downtown Alliance":MAILTO:info@downtownmetuchen.org
GEO:40.5414926;-74.3611758
X-APPLE-STRUCTURED-LOCATION;VALUE=URI;X-ADDRESS=Suite Metuchen 406 Main St Metuchen NJ 08840 United States;X-APPLE-RADIUS=500;X-TITLE=406 Main St:geo:-74.3611758,40.5414926
END:VEVENT
END:VCALENDAR